BEGIN:VCALENDAR
VERSION:2.0
PRODID:-//NAMI Butler County PA - ECPv6.15.20//NONSGML v1.0//EN
CALSCALE:GREGORIAN
METHOD:PUBLISH
X-WR-CALNAME:NAMI Butler County PA
X-ORIGINAL-URL:https://namibutler.org
X-WR-CALDESC:Events for NAMI Butler County PA
REFRESH-INTERVAL;VALUE=DURATION:PT1H
X-Robots-Tag:noindex
X-PUBLISHED-TTL:PT1H
BEGIN:VTIMEZONE
TZID:America/New_York
BEGIN:DAYLIGHT
TZOFFSETFROM:-0500
TZOFFSETTO:-0400
TZNAME:EDT
DTSTART:20250309T070000
END:DAYLIGHT
BEGIN:STANDARD
TZOFFSETFROM:-0400
TZOFFSETTO:-0500
TZNAME:EST
DTSTART:20251102T060000
END:STANDARD
BEGIN:DAYLIGHT
TZOFFSETFROM:-0500
TZOFFSETTO:-0400
TZNAME:EDT
DTSTART:20260308T070000
END:DAYLIGHT
BEGIN:STANDARD
TZOFFSETFROM:-0400
TZOFFSETTO:-0500
TZNAME:EST
DTSTART:20261101T060000
END:STANDARD
BEGIN:DAYLIGHT
TZOFFSETFROM:-0500
TZOFFSETTO:-0400
TZNAME:EDT
DTSTART:20270314T070000
END:DAYLIGHT
BEGIN:STANDARD
TZOFFSETFROM:-0400
TZOFFSETTO:-0500
TZNAME:EST
DTSTART:20271107T060000
END:STANDARD
END:VTIMEZONE
BEGIN:VEVENT
DTSTART;TZID=America/New_York:20260611T143000
DTEND;TZID=America/New_York:20260611T160000
DTSTAMP:20260423T083653
CREATED:20220606T223944Z
LAST-MODIFIED:20220606T223944Z
UID:1254-1781188200-1781193600@namibutler.org
SUMMARY:Butler In-person Family Support Group - Every Second Thursday
DESCRIPTION:
URL:https://namibutler.org/event/butler-in-person-family-support-group-every-second-thursday-2026-06-11/
LOCATION:Trinity Lutheran Church\, Room 110\, 120 Sunset Dr\, Butler\, PA\, 16001\, United States
CATEGORIES:In-Person Family Support Group
END:VEVENT
END:VCALENDAR